BEGIN:VCALENDAR
VERSION:2.0
PRODID:-//lodo.org - ECPv6.15.20//NONSGML v1.0//EN
CALSCALE:GREGORIAN
METHOD:PUBLISH
X-WR-CALNAME:lodo.org
X-ORIGINAL-URL:https://lodo.org
X-WR-CALDESC:Events for lodo.org
REFRESH-INTERVAL;VALUE=DURATION:PT1H
X-Robots-Tag:noindex
X-PUBLISHED-TTL:PT1H
BEGIN:VTIMEZONE
TZID:America/Denver
BEGIN:DAYLIGHT
TZOFFSETFROM:-0700
TZOFFSETTO:-0600
TZNAME:MDT
DTSTART:20250309T090000
END:DAYLIGHT
BEGIN:STANDARD
TZOFFSETFROM:-0600
TZOFFSETTO:-0700
TZNAME:MST
DTSTART:20251102T080000
END:STANDARD
BEGIN:DAYLIGHT
TZOFFSETFROM:-0700
TZOFFSETTO:-0600
TZNAME:MDT
DTSTART:20260308T090000
END:DAYLIGHT
BEGIN:STANDARD
TZOFFSETFROM:-0600
TZOFFSETTO:-0700
TZNAME:MST
DTSTART:20261101T080000
END:STANDARD
BEGIN:DAYLIGHT
TZOFFSETFROM:-0700
TZOFFSETTO:-0600
TZNAME:MDT
DTSTART:20270314T090000
END:DAYLIGHT
BEGIN:STANDARD
TZOFFSETFROM:-0600
TZOFFSETTO:-0700
TZNAME:MST
DTSTART:20271107T080000
END:STANDARD
END:VTIMEZONE
BEGIN:VEVENT
DTSTART;TZID=America/Denver:20260416T173000
DTEND;TZID=America/Denver:20260416T200000
DTSTAMP:20260421T020514
CREATED:20260331T163625Z
LAST-MODIFIED:20260331T163625Z
UID:10011784-1776360600-1776369600@lodo.org
SUMMARY:Nolatet
DESCRIPTION:Nolatet plays new\, New Orleans Music. Featuring vibraphonist Mike Dillon\, pianist Brian Haas\, bassist James Singleton\, and drummer Johnny Vidacovich\, they’re known for their fearless improvisations that blend traditional NOLA roots with classical\, chamber music exploration\, creating a sound that’s wildly innovative. \nNolatet takes the rich musical heritage of New Orleans and pushes it forward\, creating a unique space where tradition meets boundary-pushing improvisation\, making them a significant voice in modern jazz. \n5:30 PM Doors\, 6:30 PM Show. Tickets from $40.65.
URL:https://lodo.org/event/nolatet/
LOCATION:Dazzle\, 1080 14th St\, Denver\, CO\, 80202\, United States
CATEGORIES:arts and entertainment,music
END:VEVENT
BEGIN:VEVENT
DTSTART;TZID=America/Denver:20260416T191500
DTEND;TZID=America/Denver:20260416T204500
DTSTAMP:20260421T020514
CREATED:20260331T174609Z
LAST-MODIFIED:20260331T174609Z
UID:10012029-1776366900-1776372300@lodo.org
SUMMARY:Craig Conant
DESCRIPTION:Craig Conant is a fast-rising comedian known for his unique blend of storytelling\, self- deprecating humor\, and reflections on sobriety. Born and raised in Los Angeles to a Mexican mother and an angry white father\, Craig uses his chaotic life experiences as material that resonates with audiences. His humor often centers around the absurdities of life and his recovery journey\, delivered with a laid-back\, quirky style that has captivated fans across the country. His stand-up clips have gone viral\, particularly his stories about being fired from Trader Joe’s and his hilariously chaotic experiences with sobriety. \nCraig has performed at prestigious events such as the Just For Laughs Festival\, where he was named a New Face of Comedy\, and Netflix’s Netflix Is A Joke comedy festival. His viral stand-up bit\, Loosey Goosey\, is a fan favorite and has contributed to his rise in popularity\, drawing millions of views across social media. \nHe continues to expand his reach through his popular podcast Community Service\, where he shares more of his wild stories and personal reflections. Whether performing alongside legends like Bill Burr\, Theo Von\, and Bobby Lee or going viral with relatable bits\, Craig Conant is solidifying his place as a comedic force to watch. \nTickets start at $25 each.
URL:https://lodo.org/event/craig-conant/2026-04-16/
LOCATION:Comedy Works Downtown in Larimer Square\, 1226 15th Street
CATEGORIES:arts and entertainment,comedy
END:VEVENT
BEGIN:VEVENT
DTSTART;TZID=America/Denver:20260416T203000
DTEND;TZID=America/Denver:20260416T230000
DTSTAMP:20260421T020514
CREATED:20260331T163726Z
LAST-MODIFIED:20260331T163726Z
UID:10011785-1776371400-1776380400@lodo.org
SUMMARY:Nolatet
DESCRIPTION:Nolatet plays new\, New Orleans Music. Featuring vibraphonist Mike Dillon\, pianist Brian Haas\, bassist James Singleton\, and drummer Johnny Vidacovich\, they’re known for their fearless improvisations that blend traditional NOLA roots with classical\, chamber music exploration\, creating a sound that’s wildly innovative. \nNolatet takes the rich musical heritage of New Orleans and pushes it forward\, creating a unique space where tradition meets boundary-pushing improvisation\, making them a significant voice in modern jazz. \n8:30 PM Doors\, 9:00 PM Show. Tickets from $40.65.
URL:https://lodo.org/event/nolatet-2/
LOCATION:Dazzle\, 1080 14th St\, Denver\, CO\, 80202\, United States
CATEGORIES:arts and entertainment,music
END:VEVENT
END:VCALENDAR