BEGIN:VCALENDAR
VERSION:2.0
PRODID:-//lodo.org - ECPv6.15.20//NONSGML v1.0//EN
CALSCALE:GREGORIAN
METHOD:PUBLISH
X-WR-CALNAME:lodo.org
X-ORIGINAL-URL:https://lodo.org
X-WR-CALDESC:Events for lodo.org
REFRESH-INTERVAL;VALUE=DURATION:PT1H
X-Robots-Tag:noindex
X-PUBLISHED-TTL:PT1H
BEGIN:VTIMEZONE
TZID:America/Denver
BEGIN:DAYLIGHT
TZOFFSETFROM:-0700
TZOFFSETTO:-0600
TZNAME:MDT
DTSTART:20250309T090000
END:DAYLIGHT
BEGIN:STANDARD
TZOFFSETFROM:-0600
TZOFFSETTO:-0700
TZNAME:MST
DTSTART:20251102T080000
END:STANDARD
BEGIN:DAYLIGHT
TZOFFSETFROM:-0700
TZOFFSETTO:-0600
TZNAME:MDT
DTSTART:20260308T090000
END:DAYLIGHT
BEGIN:STANDARD
TZOFFSETFROM:-0600
TZOFFSETTO:-0700
TZNAME:MST
DTSTART:20261101T080000
END:STANDARD
BEGIN:DAYLIGHT
TZOFFSETFROM:-0700
TZOFFSETTO:-0600
TZNAME:MDT
DTSTART:20270314T090000
END:DAYLIGHT
BEGIN:STANDARD
TZOFFSETFROM:-0600
TZOFFSETTO:-0700
TZNAME:MST
DTSTART:20271107T080000
END:STANDARD
END:VTIMEZONE
BEGIN:VEVENT
DTSTART;TZID=America/Denver:20260224T083000
DTEND;TZID=America/Denver:20260224T103000
DTSTAMP:20260425T051500
CREATED:20260217T194600Z
LAST-MODIFIED:20260217T194600Z
UID:22707-1771921800-1771929000@lodo.org
SUMMARY:Ari Hoenig Trio at Dazzle
DESCRIPTION:Ari Hoenig Trio feat. Ari Hoenig (drums)\, Gadi Lehavi (piano)\, and Ben Tiberio (bass)\nIn 2018\, Ari released a standards record called NY Standard (a tribute to playing standards in New York and in 2019 Conners Days (his first trio record) which features his current trio of Nitai Hershkovits and Or Bareket. Pilc\, Moutin\, Hoenig (the three-headed monster) released Threedom in 2011 on the Motema label. He has had various projects with partner Gael Horellou including the jazz electronica project “Nasty Factorz” with a self titled record released in 2016 and Live with the quartet released in 2019. Ari has also co-led various duos with Chris Potter\, Edmar Casteneda\, JD Walter or Dan Weiss. \nPricing from $29.25. Doors 8:30 for a 9:00 show.
URL:https://lodo.org/event/ari-hoenig-trio-at-dazzle-2/
LOCATION:Dazzle\, 1080 14th St\, Denver\, CO\, 80202\, United States
CATEGORIES:arts and entertainment,museum
END:VEVENT
END:VCALENDAR